Workbook

Sheet -- Instruction --
A1: MoveSmart Level I – Empreinte CO₂ Modèle V0.1er juin 2026
A3: But | B3: Relevé initial de l’empreinte CO₂ de la mobilité d’entreprise selon MoveSmart Level I: mobilité pendulaire et voyages professionnels.
A5: Utilisation | B5: 1. Remplir les données de l’entreprise.
B6: 2. Sous «Mobilité pendulaire_A», saisir les kilomètres parcourus chaque année pour chaque moyen de transport.
B7: 3. Sous «Voyages professionnels», saisir les kilomètres parcourus chaque année pour chaque moyen de transport.
B8: 4. Le tableau de bord et la feuille de reporting sont automatiquement actualisés.
B9: 5. Les cellules en jaune sont des champs de saisie; veuillez ne pas écraser les formules.
B10: 6. Les facteurs figurent de manière transparente sur la feuille «Facteurs».
A13: Remarque de MoveSmart | B13: Conformément au règlement, l’objectif de diminution concerne le trafic pendulaire et les voyages professionnels.
B14: Pour le Level I, un relevé initial du CO₂ doit être réalisé, puis un reporting doit être implémenté, pour 2030 pour la première fois, selon le chapitre 8 du règlement.
B15: Les émissions doivent être mesurées par moyen de transport et par kilomètres annuels pour le trafic pendulaire et les voyages professionnels.
B16: Les valeurs d’émissions à respecter sont tirées des annexes A et B du règlement.
B17: Source: https://move-smart.ch/reglement_movesmart_112025/
B18: S’il n’est pas possible d’effectuer un relevé dans ce degré de détail dans une catégorie, la valeur la plus élevée doit être choisie.

Sheet Données de l’entreprise
A1: Données de l’entreprise et paramètres du reporting
A3: Saisie | B3: Valeur | C3: Unité / Remarque
A4: Entreprise | B4: TicTacToe
A5: Site / Unité organisationnelle | B5: Suisse
A6: Année du rapport | B6: 2026 | C6: Année du relevé initial
A7: Nombre de collaborateurs | B7: 30 | C7: Voyageurs
A8: Équivalents plein-temps (EPT) | B8: 22 | C8: Base du calcul des indicateurs
A9: Année visée pour le zéro net | B9: 2050 | C9: Level I: 2050 au plus tard
A11: Indicateurs calculés automatiquement
A13: Mobilité pendulaire (kg CO₂e) | B13: ='Mobilité pendulaire_A'!E51 -> 997.84
A14: Voyages professionnels (kg CO₂e) | B14: ='Voyages professionnels'!E56 -> 5518.2
A15: Total (kg CO₂e) | B15: =SUM(B13:B14) -> 6516.04
A16: Total (t CO₂e) | B16: =B15/1000 -> 6.51604
A17: kg CO₂e par EPT | B17: =IFERROR(B15/B8,"") -> 296.18364
A18: Nombre de voyages professionnels | B18: =IFERROR(B14/B15,"") -> 0.84686405

Sheet Mobilité pendulaire_A
A1: Mobilité pendulaire: kilomètres agrégés par moyen de transport
A2: Attention: les catégories suivantes sont très détaillées. Si vous ne disposez pas de données dans ce degré de détail, la valeur la plus élevée doit toujours être choisie.
A3: Catégorie | B3: Moyens de transport | C3: km/an (saisie) | D3: g CO₂e/km | E3: Émissions en kg CO₂e | F3: Part d’émissions | G3: Remarque
A4: Mobilité douce | B4: Marche | C4: 1000 | D4: 0 | E4: =C4*D4/1000 -> 0 | F4: =IFERROR(E4/$E$51,0) -> 0
A5: Mobilité douce | B5: Vélo | C5: 1200 | D5: 5.6 | E5: =C5*D5/1000 -> 6.72 | F5: =IFERROR(E5/$E$51,0) -> 0.0067345466
A6: Mobilité douce | B6: Vélo électrique (<25 km/h) | C6: 0 | D6: 11.3 | E6: =C6*D6/1000 -> 0 | F6: =IFERROR(E6/$E$51,0) -> 0
A7: Mobilité douce | B7: Vélo électrique (<45 km/h) | C7: 0 | D7: 9.8 | E7: =C7*D7/1000 -> 0 | F7: =IFERROR(E7/$E$51,0) -> 0
A8: Mobilité douce | B8: Trottinette électrique | C8: 0 | D8: 45.7 | E8: =C8*D8/1000 -> 0 | F8: =IFERROR(E8/$E$51,0) -> 0
A9: TP | B9: TP (moyenne Suisse) | C9: 10000 | D9: 25.4 | E9: =C9*D9/1000 -> 254 | F9: =IFERROR(E9/$E$51,0) -> 0.25454983
A10: TP | B10: Train (moyenne trafic régional et longues distances) | C10: 0 | D10: 7.1 | E10: =C10*D10/1000 -> 0 | F10: =IFERROR(E10/$E$51,0) -> 0
A11: TP | B11: Tram | C11: 0 | D11: 42.7 | E11: =C11*D11/1000 -> 0 | F11: =IFERROR(E11/$E$51,0) -> 0
A12: TP | B12: Bus urbain (diesel) | C12: 0 | D12: 134.2 | E12: =C12*D12/1000 -> 0 | F12: =IFERROR(E12/$E$51,0) -> 0
A13: TP | B13: Bus urbain (hybride-diesel ) | C13: 0 | D13: 125 | E13: =C13*D13/1000 -> 0 | F13: =IFERROR(E13/$E$51,0) -> 0
A14: TP | B14: Bus urbain (gaz) | C14: 0 | D14: 103.4 | E14: =C14*D14/1000 -> 0 | F14: =IFERROR(E14/$E$51,0) -> 0
A15: TP | B15: Bus urbain (pile à combustible) | C15: 0 | D15: 87.7 | E15: =C15*D15/1000 -> 0 | F15: =IFERROR(E15/$E$51,0) -> 0
... A50: Navigation fluviale | B50: Bateau voyageurs (diesel) | C50: 0 | D50: 161.3 | E50: =C50*D50/1000 -> 0 | F50: =IFERROR(E50/$E$51,0) -> 0
A51: Total | C51: =SUM(C4:C50) -> 15400 | E51: =SUM(E4:E50) -> 997.84 | F51: =SUM(F4:F50) -> 1

Sheet Voyages professionnels
A1: Voyages professionnels – mobilité agrégée par moyen de transport
A3: Catégorie | B3: Moyen de transport | C3: km/an (saisie) | D3: g CO₂e/km | E3: Émissions en kg CO₂e | F3: Part d’émissions | G3: Remarque
A4: Mobilité douce | B4: Marche | C4: 0 | D4: 0 | E4: =C4*D4/1000 -> 0 | F4: =IFERROR(E4/$E$56,0) -> 0
A5: Mobilité douce | B5: Vélo | C5: 0 | D5: 5.6 | E5: =C5*D5/1000 -> 0 | F5: =IFERROR(E5/$E$56,0) -> 0
A6: Mobilité douce | B6: Vélo électrique (<25 km/h) | C6: 0 | D6: 11.3 | E6: =C6*D6/1000 -> 0 | F6: =IFERROR(E6/$E$56,0) -> 0
A7: Mobilité douce | B7: Vélo électrique (<45 km/h) | C7: 0 | D7: 9.8 | E7: =C7*D7/1000 -> 0 | F7: =IFERROR(E7/$E$56,0) -> 0
A8: Mobilité douce | B8: Trottinette électrique | C8: 0 | D8: 45.7 | E8: =C8*D8/1000 -> 0 | F8: =IFERROR(E8/$E$56,0) -> 0
A9: TP | B9: TP (moyenne Suisse) | C9: 0 | D9: 25.4 | E9: =C9*D9/1000 -> 0 | F9: =IFERROR(E9/$E$56,0) -> 0
A10: TP | B10: Train (moyenne trafic régional et longues distances) | C10: 0 | D10: 7.1 | E10: =C10*D10/1000 -> 0 | F10: =IFERROR(E10/$E$56,0) -> 0
A11: TP | B11: Trams | C11: 0 | D11: 42.7 | E11: =C11*D11/1000 -> 0 | F11: =IFERROR(E11/$E$56,0) -> 0
A12: TP | B12: Bus urbain (diesel) | C12: 0 | D12: 134.2 | E12: =C12*D12/1000 -> 0 | F12: =IFERROR(E12/$E$56,0) -> 0
A13: TP | B13: Bus urbain (hybride-diesel ) | C13: 0 | D13: 125 | E13: =C13*D13/1000 -> 0 | F13: =IFERROR(E13/$E$56,0) -> 0
A14: TP | B14: Bus urbain (gaz) | C14: 0 | D14: 103.4 | E14: =C14*D14/1000 -> 0 | F14: =IFERROR(E14/$E$56,0) -> 0
A15: TP | B15: Bus urbain (pile à combustible) | C15: 0 | D15: 87.7 | E15: =C15*D15/1000 -> 0 | F15: =IFERROR(E15/$E$56,0) -> 0
... A55: Avion | B55: Intercontinental, first | C55: 0 | D55: 605.6 | E55: =C55*D55/1000 -> 0 | F55: =IFERROR(E55/$E$56,0) -> 0
A56: Total | C56: =SUM(C4:C55) -> 42000 | E56: =SUM(E4:E55) -> 5518.2 | F56: =SUM(F4:F55) -> 1

Sheet Tableau de bord
A1: Tableau de bord – MoveSmart empreinte CO₂ de la mobilité d’entreprise
A3: ="Gesamtübersicht "&[1]Unternehmensdaten!B6 -> #REF!
A5: Total actuel kg CO₂e | C5: kg CO₂e/EPT actuels
A6: ='Données de l’entreprise'!B15 -> 6516.04 | C6: ='Données de l’entreprise'!B17 -> 296.18364
A9: Domaine | B9: ='Données de l’entreprise'!B6&" zurückgelegte km" -> 2026 zurückgelegte km | C9: Émissions en kg CO₂e | D9: Part
A10: Mobilité pendulaire | B10: =SUM(tblModalSplitDashboard[km de voyages pendulaires]) -> #VALUE! | C10: ='Données de l’entreprise'!B13 -> 997.84 | D10: =IFERROR(C10/$C$12,0) -> 0.15313595
A11: Voyages professionnels | B11: =SUM(tblModalSplitDashboard[km de voyages professionnels]) -> #VALUE! | C11: ='Données de l’entreprise'!B14 -> 5518.2 | D11: =IFERROR(C11/$C$12,0) -> 0.84686405
A12: Total | B12: =B11+B10 -> #VALUE! | C12: =SUM(C10:C11) -> 6516.04 | D12: =SUM(D10:D11) -> 1
A16: Catégorie | B16: km de voyages pendulaires | C16: km de voyages professionnels | D16: Total km
A17: Mobilité douce | B17: =SUMIF('Mobilité pendulaire_A'!$A$4:$A$50,A17,[2]Pendelmobilität_A!$C$4:$C$50) -> #VALUE! | C17: =SUMIF('Voyages professionnels'!$A$4:$A$55,A17,[3]Geschäftsreisen!$C$4:$C$55) -> #VALUE! | D17: =SUM(B17:C17) -> #VALUE!
A18: TP | B18: =SUMIF('Mobilité pendulaire_A'!$A$4:$A$50,A18,[2]Pendelmobilität_A!$C$4:$C$50) -> #VALUE! | C18: =SUMIF('Voyages professionnels'!$A$4:$A$55,A18,[3]Geschäftsreisen!$C$4:$C$55) -> #VALUE! | D18: =SUM(B18:C18) -> #VALUE!
A19: Scooter | B19: =SUMIF('Mobilité pendulaire_A'!$A$4:$A$50,A19,[2]Pendelmobilität_A!$C$4:$C$50) -> #VALUE! | C19: =SUMIF('Voyages professionnels'!$A$4:$A$55,A19,[3]Geschäftsreisen!$C$4:$C$55) -> #VALUE! | D19: =SUM(B19:C19) -> #VALUE!
A20: Moto | B20: =SUMIF('Mobilité pendulaire_A'!$A$4:$A$50,A20,[2]Pendelmobilität_A!$C$4:$C$50) -> #VALUE! | C20: =SUMIF('Voyages professionnels'!$A$4:$A$55,A20,[3]Geschäftsreisen!$C$4:$C$55) -> #VALUE! | D20: =SUM(B20:C20) -> #VALUE!
A21: Voiture (1 personne par véhicule / véhicule-kilomètre) | B21: =SUMIF('Mobilité pendulaire_A'!$A$4:$A$50,A21,[2]Pendelmobilität_A!$C$4:$C$50) -> #VALUE! | C21: =SUMIF('Voyages professionnels'!$A$4:$A$55,A21,[3]Geschäftsreisen!$C$4:$C$55) -> #VALUE! | D21: =SUM(B21:C21) -> #VALUE!
A22: Véhicules utilitaires | B22: =SUMIF('Mobilité pendulaire_A'!$A$4:$A$50,A22,[2]Pendelmobilität_A!$C$4:$C$50) -> #VALUE! | C22: =SUMIF('Voyages professionnels'!$A$4:$A$55,A22,[3]Geschäftsreisen!$C$4:$C$55) -> #VALUE! | D22: =SUM(B22:C22) -> #VALUE!
A23: Navigation fluviale | B23: =SUMIF('Mobilité pendulaire_A'!$A$4:$A$50,A23,[2]Pendelmobilität_A!$C$4:$C$50) -> #VALUE! | C23: =SUMIF('Voyages professionnels'!$A$4:$A$55,A23,[3]Geschäftsreisen!$C$4:$C$55) -> #VALUE! | D23: =SUM(B23:C23) -> #VALUE!
A24: Avion | B24: =SUMIF('Mobilité pendulaire_A'!$A$4:$A$50,A24,[2]Pendelmobilität_A!$C$4:$C$50) -> #VALUE! | C24: =SUMIF('Voyages professionnels'!$A$4:$A$55,A24,[3]Geschäftsreisen!$C$4:$C$55) -> #VALUE! | D24: =SUM(B24:C24) -> #VALUE!

Sheet Reporting_MoveSmart
A1: Reporting MoveSmart – relevé initial et objectif de diminution du CO₂
A3: Entreprise | B3: ='Données de l’entreprise'!B4 -> TicTacToe
A4: Unité organisationnelle / site | B4: ='Données de l’entreprise'!B5 -> Suisse
A5: Année du rapport | B5: ='Données de l’entreprise'!B6 -> 2026
A6: Année visée pour le zéro net | B6: ='Données de l’entreprise'!B9 -> 2050
A7: EPT | B7: ='Données de l’entreprise'!B8 -> 22
A8: Scénario de référence kg CO₂e trafic pendulaire | B8: ='Données de l’entreprise'!B13 -> 997.84
A9: Scénario de référence kg CO₂e voyages professionnels | B9: ='Données de l’entreprise'!B14 -> 5518.2
A10: Scénario de référence total kg CO₂e | B10: ='Données de l’entreprise'!B15 -> 6516.04
A11: Scénario de référence total kg CO₂e/ EPT | B11: ='Données de l’entreprise'!B17 -> 296.18364
A14: Année | B14: Objectif d’émissions en kg CO₂e/EPT (linéaire) | C14: Remarque
A15: 2026 | B15: =IF(A15<=$B$5,$B$11,IF(A15>=$B$6,0,$B$11*(1-(A15-$B$5)/($B$6-$B$5)))) -> 296.18364 | C15: année de relevé
A16: 2030 | B16: =IF(A16<=$B$5,$B$11,IF(A16>=$B$6,0,$B$11*(1-(A16-$B$5)/($B$6-$B$5)))) -> 246.8197 | C16: ="objectif intermédiaire pour "&A16&" ; diminution linéaire"&" pour "&B$6 -> objectif intermédiaire pour 2030 ; diminution linéaire pour 2050
A17: 2033 | B17: =IF(A17<=$B$5,$B$11,IF(A17>=$B$6,0,$B$11*(1-(A17-$B$5)/($B$6-$B$5)))) -> 209.79674 | C17: ="objectif intermédiaire pour "&A17&" ; diminution linéaire"&" pour "&B$6 -> objectif intermédiaire pour 2033 ; diminution linéaire pour 2050
A18: 2036 | B18: =IF(A18<=$B$5,$B$11,IF(A18>=$B$6,0,$B$11*(1-(A18-$B$5)/($B$6-$B$5)))) -> 172.77379 | C18: ="objectif intermédiaire pour "&A18&" ; diminution linéaire"&" pour "&B$6 -> objectif intermédiaire pour 2036 ; diminution linéaire pour 2050
A19: 2039 | B19: =IF(A19<=$B$5,$B$11,IF(A19>=$B$6,0,$B$11*(1-(A19-$B$5)/($B$6-$B$5)))) -> 135.75083 | C19: ="objectif intermédiaire pour "&A19&" ; diminution linéaire"&" pour "&B$6 -> objectif intermédiaire pour 2039 ; diminution linéaire pour 2050
A20: 2042 | B20: =IF(A20<=$B$5,$B$11,IF(A20>=$B$6,0,$B$11*(1-(A20-$B$5)/($B$6-$B$5)))) -> 98.727879 | C20: ="objectif intermédiaire pour "&A20&" ; diminution linéaire"&" pour "&B$6 -> objectif intermédiaire pour 2042 ; diminution linéaire pour 2050
A21: 2045 | B21: =IF(A21<=$B$5,$B$11,IF(A21>=$B$6,0,$B$11*(1-(A21-$B$5)/($B$6-$B$5)))) -> 61.704924 | C21: ="objectif intermédiaire pour "&A21&" ; diminution linéaire"&" pour "&B$6 -> objectif intermédiaire pour 2045 ; diminution linéaire pour 2050
A22: 2048 | B22: =IF(A22<=$B$5,$B$11,IF(A22>=$B$6,0,$B$11*(1-(A22-$B$5)/($B$6-$B$5)))) -> 24.68197 | C22: ="objectif intermédiaire pour "&A22&" ; diminution linéaire"&" pour "&B$6 -> objectif intermédiaire pour 2048 ; diminution linéaire pour 2050 | E22: Date:
A23: 2050 | B23: =IF(A23<=$B$5,$B$11,IF(A23>=$B$6,0,$B$11*(1-(A23-$B$5)/($B$6-$B$5)))) -> 0 | C23: ="objectif intermédiaire pour "&A23&" ; diminution linéaire"&" pour "&B$6 -> objectif intermédiaire pour 2050 ; diminution linéaire pour 2050 | E23: Nom de la personne responsable:
E24: Visa:
A26: Reporting selon le règlement de MoveSmart

Sheet Facteurs
A1: Facteurs d’émissions selon le règlement de MoveSmart – annexes A et B
A3: Catégorie | B3: Moyens de transport | C3: g CO₂e par km | D3: Trafic pendulaire | E3: Voyages professionnels | F3: Source
A4: Mobilité douce | B4: Marche | C4: 0 | D4: Oui | E4: Oui | F4: Règlement, annexes A/B
A5: Mobilité douce | B5: Vélo | C5: 5.6 | D5: Oui | E5: Oui | F5: Règlement, annexes A/B
A6: Mobilité douce | B6: Vélo électrique (<25 km/h) | C6: 11.3 | D6: Oui | E6: Oui | F6: Règlement, annexes A/B
A7: Mobilité douce | B7: Vélo électrique (<45 km/h) | C7: 9.8 | D7: Oui | E7: Oui | F7: Règlement, annexes A/B
A8: Mobilité douce | B8: Trottinette électrique | C8: 45.7 | D8: Oui | E8: Oui | F8: Règlement, annexes A/B
A9: TP | B9: TP (moyenne Suisse) | C9: 25.4 | D9: Oui | E9: Oui | F9: Règlement, annexes A/B
A10: TP | B10: Train (moyenne trafic régional et longues distances) | C10: 7.1 | D10: Oui | E10: Oui | F10: Règlement, annexes A/B
A11: TP | B11: Trams | C11: 42.7 | D11: Oui | E11: Oui | F11: Règlement, annexes A/B
A12: TP | B12: Bus urbain (diesel) | C12: 134.2 | D12: Oui | E12: Oui | F12: Règlement, annexes A/B
A13: TP | B13: Bus urbain (hybride-diesel ) | C13: 125 | D13: Oui | E13: Oui | F13: Règlement, annexes A/B
A14: TP | B14: Bus urbain (gaz) | C14: 103.4 | D14: Oui | E14: Oui | F14: Règlement, annexes A/B
A15: TP | B15: Bus urbain (pile à combustible) | C15: 87.7 | D15: Oui | E15: Oui | F15: Règlement, annexes A/B
... A55: Avion | B55: Intercontinental, first | C55: 605.6 | D55: Non | E55: Oui | F55: Règlement, annexe B
